BEGIN:VCALENDAR
VERSION:2.0
PRODID:-//All Saints Lutheran Church - ECPv6.15.20//NONSGML v1.0//EN
CALSCALE:GREGORIAN
METHOD:PUBLISH
X-WR-CALNAME:All Saints Lutheran Church
X-ORIGINAL-URL:https://allsaintstampa.org/Wordpress
X-WR-CALDESC:Events for All Saints Lutheran Church
REFRESH-INTERVAL;VALUE=DURATION:PT1H
X-Robots-Tag:noindex
X-PUBLISHED-TTL:PT1H
BEGIN:VTIMEZONE
TZID:America/New_York
BEGIN:DAYLIGHT
TZOFFSETFROM:-0500
TZOFFSETTO:-0400
TZNAME:EDT
DTSTART:20250309T070000
END:DAYLIGHT
BEGIN:STANDARD
TZOFFSETFROM:-0400
TZOFFSETTO:-0500
TZNAME:EST
DTSTART:20251102T060000
END:STANDARD
BEGIN:DAYLIGHT
TZOFFSETFROM:-0500
TZOFFSETTO:-0400
TZNAME:EDT
DTSTART:20260308T070000
END:DAYLIGHT
BEGIN:STANDARD
TZOFFSETFROM:-0400
TZOFFSETTO:-0500
TZNAME:EST
DTSTART:20261101T060000
END:STANDARD
BEGIN:DAYLIGHT
TZOFFSETFROM:-0500
TZOFFSETTO:-0400
TZNAME:EDT
DTSTART:20270314T070000
END:DAYLIGHT
BEGIN:STANDARD
TZOFFSETFROM:-0400
TZOFFSETTO:-0500
TZNAME:EST
DTSTART:20271107T060000
END:STANDARD
END:VTIMEZONE
BEGIN:VEVENT
DTSTART;TZID=America/New_York:20260424T183000
DTEND;TZID=America/New_York:20260424T200000
DTSTAMP:20260422T112148
CREATED:20260221T145657Z
LAST-MODIFIED:20260221T145657Z
UID:4488-1777055400-1777060800@allsaintstampa.org
SUMMARY:Book Club
DESCRIPTION:We will meet at Trudy’s house. The next book we will read is All the Glimmering Stars by Mark Sullivan. This book is a historical fiction novel based on the true story of two Ugandan teenagers\, Anthony Opoka and Florence Okori\, who were kidnapped by Joseph Kony’s Lord’s Resistance Army (LRA) in the 1990s and forced to become child soldiers. Bring a dish to share!
URL:https://allsaintstampa.org/Wordpress/event/book-club-3/
END:VEVENT
END:VCALENDAR